BEGIN:VCALENDAR
VERSION:2.0
PRODID:icalendar-ruby
CALSCALE:GREGORIAN
METHOD:PUBLISH
BEGIN:VEVENT
DTSTAMP:20260423T181317Z
UID:72-1696862@klci.org
DTSTART:20260628T160000Z
DTEND:20260628T180000Z
CLASS:PUBLIC
CREATED:20260408T104555
DESCRIPTION:We will have a church fellowship meal after the church service 
 on Sunday March 15th. The church will provide the meat - and the church fa
 mily will provide the side dishes. Plan to join us for this wonderful time
  of fellowship with our church brothers and sisters.
LAST-MODIFIED:20260408T104555
LOCATION:6904 Glenwood Avenue\, Suite 112\, Raleigh\, NC\, 27612
SUMMARY:Fellowship Meal 
URL;VALUE=URI:https://www.klci.org/events/fellowship-meal/2026-06-28
ATTACH;FILENAME=Untitled design (3).png;FMTTYPE=image/png:https://dq5pwpg1q
 8ru0.cloudfront.net/2026/02/22/02/01/12/9a7c8e0c-5311-45e4-ab1f-68ed04c04f
 71/Untitled%20design%20(3).png
END:VEVENT
END:VCALENDAR
